BEGIN:VCALENDAR
VERSION:2.0
PRODID:-//Two Gun Tactical - ECPv6.15.20//NONSGML v1.0//EN
CALSCALE:GREGORIAN
METHOD:PUBLISH
X-WR-CALNAME:Two Gun Tactical
X-ORIGINAL-URL:https://2guntactical.com
X-WR-CALDESC:Events for Two Gun Tactical
REFRESH-INTERVAL;VALUE=DURATION:PT1H
X-Robots-Tag:noindex
X-PUBLISHED-TTL:PT1H
BEGIN:VTIMEZONE
TZID:UTC
BEGIN:STANDARD
TZOFFSETFROM:+0000
TZOFFSETTO:+0000
TZNAME:UTC
DTSTART:20250101T000000
END:STANDARD
END:VTIMEZONE
BEGIN:VEVENT
DTSTART;TZID=UTC:20260428T160000
DTEND;TZID=UTC:20260428T190000
DTSTAMP:20260420T180324
CREATED:20260406T165024Z
LAST-MODIFIED:20260406T165024Z
UID:10001655-1777392000-1777402800@2guntactical.com
SUMMARY:Basic AR
DESCRIPTION:Call or visit one of our locations to register. \nBeginners welcome. this class is tailored for new shooters to become familiar with the safe operation and handling of AR-15 style rifles. The class includes instruction on rifle components\, loading and unloading procedures\, and live-fire exercises. Upon completion\, attendees will be able to properly load\, unload\, and fire their rifles. Range time is included with the course fee.
URL:https://2guntactical.com/event/basic-ar-4-28-26/
LOCATION:Two Gun Tactical\, LLC Ridgeland\, 287 HWY 51\, Ridgeland\, MS\, 39157\, United States
CATEGORIES:Class,Ridgeland
ATTACH;FMTTYPE=image/jpeg:https://2guntactical.com/wp-content/uploads/2025/05/ar-class.jpg
END:VEVENT
END:VCALENDAR